BEGIN:VCALENDAR
VERSION:2.0
PRODID:-//Town of Rock Falls - ECPv6.15.20//NONSGML v1.0//EN
CALSCALE:GREGORIAN
METHOD:PUBLISH
X-WR-CALNAME:Town of Rock Falls
X-ORIGINAL-URL:https://townofrockfalls.com
X-WR-CALDESC:Events for Town of Rock Falls
REFRESH-INTERVAL;VALUE=DURATION:PT1H
X-Robots-Tag:noindex
X-PUBLISHED-TTL:PT1H
BEGIN:VTIMEZONE
TZID:America/Chicago
BEGIN:DAYLIGHT
TZOFFSETFROM:-0600
TZOFFSETTO:-0500
TZNAME:CDT
DTSTART:20250309T080000
END:DAYLIGHT
BEGIN:STANDARD
TZOFFSETFROM:-0500
TZOFFSETTO:-0600
TZNAME:CST
DTSTART:20251102T070000
END:STANDARD
BEGIN:DAYLIGHT
TZOFFSETFROM:-0600
TZOFFSETTO:-0500
TZNAME:CDT
DTSTART:20260308T080000
END:DAYLIGHT
BEGIN:STANDARD
TZOFFSETFROM:-0500
TZOFFSETTO:-0600
TZNAME:CST
DTSTART:20261101T070000
END:STANDARD
BEGIN:DAYLIGHT
TZOFFSETFROM:-0600
TZOFFSETTO:-0500
TZNAME:CDT
DTSTART:20270314T080000
END:DAYLIGHT
BEGIN:STANDARD
TZOFFSETFROM:-0500
TZOFFSETTO:-0600
TZNAME:CST
DTSTART:20271107T070000
END:STANDARD
END:VTIMEZONE
BEGIN:VEVENT
DTSTART;TZID=America/Chicago:20260811T070000
DTEND;TZID=America/Chicago:20260811T200000
DTSTAMP:20260423T160231
CREATED:20260307T160320Z
LAST-MODIFIED:20260307T160320Z
UID:1945-1786431600-1786478400@townofrockfalls.com
SUMMARY:Partisan Primary Election
DESCRIPTION:Please make sure to bring your ID with you\, it is required for you to vote
URL:https://townofrockfalls.com/event/partisan-primary-election/
LOCATION:Rock Falls Town Hall\, W5895 Rock Falls Drive\, Irma\, WI\, 54442\, United States
CATEGORIES:Election
END:VEVENT
BEGIN:VEVENT
DTSTART;TZID=America/Chicago:20261103T070000
DTEND;TZID=America/Chicago:20261103T200000
DTSTAMP:20260423T160231
CREATED:20260307T160742Z
LAST-MODIFIED:20260307T160742Z
UID:1947-1793689200-1793736000@townofrockfalls.com
SUMMARY:General Election
DESCRIPTION:Please make sure to bring your ID with you\, it is required in order for you to vote
URL:https://townofrockfalls.com/event/general-election/
LOCATION:Rock Falls Town Hall\, W5895 Rock Falls Drive\, Irma\, WI\, 54442\, United States
CATEGORIES:Election
END:VEVENT
END:VCALENDAR