BEGIN:VCALENDAR
VERSION:2.0
PRODID:-//Town of Rock Falls - ECPv6.15.20//NONSGML v1.0//EN
CALSCALE:GREGORIAN
METHOD:PUBLISH
X-ORIGINAL-URL:https://townofrockfalls.com
X-WR-CALDESC:Events for Town of Rock Falls
REFRESH-INTERVAL;VALUE=DURATION:PT1H
X-Robots-Tag:noindex
X-PUBLISHED-TTL:PT1H
BEGIN:VTIMEZONE
TZID:America/Chicago
BEGIN:DAYLIGHT
TZOFFSETFROM:-0600
TZOFFSETTO:-0500
TZNAME:CDT
DTSTART:20240310T080000
END:DAYLIGHT
BEGIN:STANDARD
TZOFFSETFROM:-0500
TZOFFSETTO:-0600
TZNAME:CST
DTSTART:20241103T070000
END:STANDARD
BEGIN:DAYLIGHT
TZOFFSETFROM:-0600
TZOFFSETTO:-0500
TZNAME:CDT
DTSTART:20250309T080000
END:DAYLIGHT
BEGIN:STANDARD
TZOFFSETFROM:-0500
TZOFFSETTO:-0600
TZNAME:CST
DTSTART:20251102T070000
END:STANDARD
BEGIN:DAYLIGHT
TZOFFSETFROM:-0600
TZOFFSETTO:-0500
TZNAME:CDT
DTSTART:20260308T080000
END:DAYLIGHT
BEGIN:STANDARD
TZOFFSETFROM:-0500
TZOFFSETTO:-0600
TZNAME:CST
DTSTART:20261101T070000
END:STANDARD
BEGIN:DAYLIGHT
TZOFFSETFROM:-0600
TZOFFSETTO:-0500
TZNAME:CDT
DTSTART:20270314T080000
END:DAYLIGHT
BEGIN:STANDARD
TZOFFSETFROM:-0500
TZOFFSETTO:-0600
TZNAME:CST
DTSTART:20271107T070000
END:STANDARD
END:VTIMEZONE
BEGIN:VEVENT
DTSTART;TZID=America/Chicago:20260404T090000
DTEND;TZID=America/Chicago:20260404T130000
DTSTAMP:20260423T183010
CREATED:20260328T115209Z
LAST-MODIFIED:20260328T115209Z
UID:1959-1775293200-1775307600@townofrockfalls.com
SUMMARY:In Person Absentee Voting
DESCRIPTION:In Person Absentee Voting may be done April 4\, 2026 from 9am – 1pm
URL:https://townofrockfalls.com/event/in-person-absentee-voting-8/
LOCATION:Rock Falls Town Hall\, W5895 Rock Falls Drive\, Irma\, WI\, 54442\, United States
CATEGORIES:Election
END:VEVENT
BEGIN:VEVENT
DTSTART;TZID=America/Chicago:20260403T170000
DTEND;TZID=America/Chicago:20260403T173000
DTSTAMP:20260423T183010
CREATED:20260328T115403Z
LAST-MODIFIED:20260328T115403Z
UID:1961-1775235600-1775237400@townofrockfalls.com
SUMMARY:Election Equipment Testing
DESCRIPTION:Testing will be done on the DS-200 and the Express Vote Election Equipment on Friday April 3\, 2026 at 5pm
URL:https://townofrockfalls.com/event/election-equipment-testing/
LOCATION:Rock Falls Town Hall\, W5895 Rock Falls Drive\, Irma\, WI\, 54442\, United States
CATEGORIES:Election
END:VEVENT
BEGIN:VEVENT
DTSTART;TZID=America/Chicago:20260328T090000
DTEND;TZID=America/Chicago:20260404T130000
DTSTAMP:20260423T183010
CREATED:20260328T114937Z
LAST-MODIFIED:20260328T114940Z
UID:1955-1774688400-1775307600@townofrockfalls.com
SUMMARY:In Person Absentee Voting
DESCRIPTION:In Person-Absentee Voting may be done at the Town of Rock Falls Town Hall on Saturday March 28\, 2026 from 9am – 1pm and on Saturday April 4\, 2026 from 9am – 1pm
URL:https://townofrockfalls.com/event/in-person-absentee-voting-6/
LOCATION:Rock Falls Town Hall\, W5895 Rock Falls Drive\, Irma\, WI\, 54442\, United States
CATEGORIES:Election
END:VEVENT
BEGIN:VEVENT
DTSTART;TZID=America/Chicago:20260328T090000
DTEND;TZID=America/Chicago:20260328T130000
DTSTAMP:20260423T183010
CREATED:20260328T115052Z
LAST-MODIFIED:20260328T115052Z
UID:1957-1774688400-1774702800@townofrockfalls.com
SUMMARY:In Person Absentee Voting
DESCRIPTION:In Person Absentee Voting may be done Saturday March 28\, 2026 from 9am – 1pm
URL:https://townofrockfalls.com/event/in-person-absentee-voting-7/
LOCATION:Rock Falls Town Hall\, W5895 Rock Falls Drive\, Irma\, WI\, 54442\, United States
CATEGORIES:Election
END:VEVENT
BEGIN:VEVENT
DTSTART;TZID=America/Chicago:20250405T080000
DTEND;TZID=America/Chicago:20250413T170000
DTSTAMP:20260423T183010
CREATED:20250405T181220Z
LAST-MODIFIED:20250405T181229Z
UID:1703-1743840000-1744563600@townofrockfalls.com
SUMMARY:
DESCRIPTION:Election Results\nChairman : Mike VanDeWeerd for a one year term*\nTreasurer: Cindy Frisch\nClerk: Diane Chambers\nSupervisor: Kurt Niersel\nSupervisor: Randy Swan\nReferendum: Should Clerk be an appointed position was voted down\nReferendum: Should Treasurer be an appointed position was voted down \nWe would like to thank George Alery (Punky) for all of his years of service to our community \n*Chairman was selected to be the position that changed to a one year term in order to stagger the board so everyone wouldn’t be up for election\nat the same time.
URL:https://townofrockfalls.com/event/1703/
LOCATION:Town Of Rock Falls
CATEGORIES:Election
END:VEVENT
BEGIN:VEVENT
DTSTART;VALUE=DATE:20250401
DTEND;VALUE=DATE:20250402
DTSTAMP:20260423T183010
CREATED:20250127T190227Z
LAST-MODIFIED:20250127T190227Z
UID:1672-1743465600-1743551999@townofrockfalls.com
SUMMARY:Spring Election
DESCRIPTION:Polls are open from 7:00am until 8:00pm please remember to bring a valid ID or proof of residence. You will need that in order to vote.\nIf you need to register you may do that online at MyVote.com
URL:https://townofrockfalls.com/event/spring-election/
LOCATION:Rock Falls Town Hall\, W5895 Rock Falls Drive\, Irma\, WI\, 54442\, United States
CATEGORIES:Election
END:VEVENT
BEGIN:VEVENT
DTSTART;VALUE=DATE:20250218
DTEND;VALUE=DATE:20250219
DTSTAMP:20260423T183010
CREATED:20250127T185957Z
LAST-MODIFIED:20250127T185957Z
UID:1670-1739836800-1739923199@townofrockfalls.com
SUMMARY:Spring Primary Election
DESCRIPTION:Polls are open from 7:00am until 8:00pm
URL:https://townofrockfalls.com/event/spring-primary-election/
LOCATION:Town Of Rock Falls
CATEGORIES:Election
END:VEVENT
END:VCALENDAR